

BEGIN:VCALENDAR
VERSION:2.0
PRODID:-//Sanibel Community Association - The Community House - ECPv6.11.2//NONSGML v1.0//EN
CALSCALE:GREGORIAN
METHOD:PUBLISH
X-WR-CALNAME:Sanibel Community Association - The Community House
X-ORIGINAL-URL:https://sanibelcommunityhouse.net
X-WR-CALDESC:Events for Sanibel Community Association - The Community House
REFRESH-INTERVAL;VALUE=DURATION:PT1H
X-Robots-Tag:noindex
X-PUBLISHED-TTL:PT1H
BEGIN:VTIMEZONE
TZID:America/New_York
BEGIN:DAYLIGHT
TZOFFSETFROM:-0500
TZOFFSETTO:-0400
TZNAME:EDT
DTSTART:20260308T070000
END:DAYLIGHT
BEGIN:STANDARD
TZOFFSETFROM:-0400
TZOFFSETTO:-0500
TZNAME:EST
DTSTART:20261101T060000
END:STANDARD
END:VTIMEZONE
BEGIN:VTIMEZONE
TZID:UTC
BEGIN:STANDARD
TZOFFSETFROM:+0000
TZOFFSETTO:+0000
TZNAME:UTC
DTSTART:20260101T000000
END:STANDARD
END:VTIMEZONE
BEGIN:VEVENT
DTSTART;TZID=America/New_York:20260422T090000
DTEND;TZID=America/New_York:20260422T120000
DTSTAMP:20260421T080119
CREATED:20251007T153439Z
LAST-MODIFIED:20260225T182515Z
UID:10007283-1776848400-1776859200@sanibelcommunityhouse.net
SUMMARY:Painting with Friends
DESCRIPTION:  \nAll painters are invited to join in as we paint with our friends. Bring your own supplies and art in progress. New painters welcome. Donation $10. Register and pay at the door. \nFor more information: Email Jane Hudson \n  \nBe the first to know more about events like this by signing up to receive our email notifications! \n\nsubscribe here for e-news
URL:https://sanibelcommunityhouse.net/event/painting-with-friends-6/2026-04-22/
LOCATION:2173 Periwinkle Way\, 2173 Periwinkle Way\, Sanibel\, FL\, 33957\, United States
CATEGORIES:Art
ATTACH;FMTTYPE=image/png:https://sanibelcommunityhouse.net/wp-content/uploads/2025/10/2025-2026-Painting-with-Friends-Website-Calendar.png
END:VEVENT
BEGIN:VEVENT
DTSTART;TZID=America/New_York:20260422T120000
DTEND;TZID=America/New_York:20260422T150000
DTSTAMP:20260421T080119
CREATED:20260415T161942Z
LAST-MODIFIED:20260415T161942Z
UID:10007518-1776859200-1776870000@sanibelcommunityhouse.net
SUMMARY:Macrame with Jodi Cort
DESCRIPTION:  \nClick here to register \nPrevious macrame experience is required for this course \nJoin Jodi Cort’s second intermediate level macrame class! \nJoin us at the Community House for Jodi Cort’s second intermediate level macrame class! \nIn this class\, you will create a beautiful wall hanging decoration using intricate knotting techniques! Previous macrame experience is necessary for this class and Jodi will provide all necessary materials. \nWe hope to see you there! \nIf you are interested in learning macrame from Jodi and do not have experience\, she is offering a beginner class on April 23rd where you make a beautiful plant hanger that can be taken home at the end of the class! \n$50 for Members | $60 for Nonmembers \n▪️Nonmembers\, click here to register.\n▪️Members\, please call us at 239-472-2155 before purchasing your tickets to receive your DISCOUNT CODE!\n▪️Not a member yet? Click here to join or renew your membership today! \nBe the first to know more about events like this by signing up to receive our email notifications! \n\nsubscribe here for e-news\n\n \nAbout Jodi: \nJodi Cort (AKA JoAnne) is a retired teacher of the Deaf. Originally from Massachusetts\, she moved to Sanibel in 1999. Until recently\, she worked part-time as a sign language interpreter in a variety of settings. She also volunteered in the Guardian and Litem program\, participated in fundraising projects for SCCF\, and taught sign language classes. Jodi currently lives in Fort Myers\, just a few miles from the causeway\, which she crosses almost daily\, often to play tennis at the Dunes Golf and Tennis Club. \nJodi has enjoyed a variety of crafts for over 50 years\, including needlepoint\, embroidery\, crewel\, punch-hook rug-making\, and knitting. During the past two years\, she has found a new passion — the art of macrame. She makes wall hangings and plant hangers\, and has been commissioned to make holiday ornaments & wreaths\, and original pieces for gifts and non-profit organizations. \nCombining her love for teaching with her new craft is something Jodi naturally enjoys. \n 
URL:https://sanibelcommunityhouse.net/event/macrame-with-jodi-cort-3/
LOCATION:2173 Periwinkle Way\, 2173 Periwinkle Way\, Sanibel\, FL\, 33957\, United States
CATEGORIES:Art
ATTACH;FMTTYPE=image/png:https://sanibelcommunityhouse.net/wp-content/uploads/2026/04/Macrame-Class-INTERMEDIATE-SCA-Website-Calendar.png
END:VEVENT
BEGIN:VEVENT
DTSTART;TZID=America/New_York:20260422T170000
DTEND;TZID=America/New_York:20260422T180000
DTSTAMP:20260421T080119
CREATED:20260324T130357Z
LAST-MODIFIED:20260324T130357Z
UID:10007504-1776877200-1776880800@sanibelcommunityhouse.net
SUMMARY:Sanibel Community Association Annual Meeting
DESCRIPTION:The Sanibel Community Association’s (SCA) Annual Meeting will be held Wednesday\, April 22\, 2026 at 5:00 pm. All Members are invited to learn the status of your Sanibel Community Association\, and The Sanibel Community House. \n \n  \n 
URL:https://sanibelcommunityhouse.net/event/sanibel-community-association-annual-meeting-3/
LOCATION:2173 Periwinkle Way\, 2173 Periwinkle Way\, Sanibel\, FL\, 33957\, United States
CATEGORIES:Cultural
END:VEVENT
BEGIN:VEVENT
DTSTART;TZID=America/New_York:20260422T180000
DTEND;TZID=America/New_York:20260422T200000
DTSTAMP:20260421T080119
CREATED:20260413T202427Z
LAST-MODIFIED:20260420T143711Z
UID:10007517-1776880800-1776888000@sanibelcommunityhouse.net
SUMMARY:Member & Volunteer Appreciation BBQ Social
DESCRIPTION:  \nMember & Volunteer Appreciation BBQ Social\nWednesday\, April 22nd\n6-8pm \nJoin us at the Community House for a FREE night of fun for CH volunteers and members! \nJoin us for this exclusive night of dancing and fun featuring “The Cat Named Clark” band\, cornhole\, cash bar\, soft drinks\, raffle prizes\, and a Southern comfort style BBQ buffet! Tea and lemonade are complimentary\, alcoholic beverages will be available for purchase at the bar. \nThis event is in appreciation of our members and volunteers who made the 2025-2026 season so successful. We are grateful for the opportunity to celebrate you\, and hope you can join us for this end-of-season social event! \nFood is provided by Mission BBQ and consists of: Sliced brisket\, pulled chicken\, Mac n’ Cheese\, baked beans\, cornbread\, mixed greens\, brownies\, and cookies. \nMusic is provided by “The Cat Named Clark band“; a band that often performs in Sanibel and Captiva. They are a 70s soft rock cover band consisting of four members: Tanya Mahanger\, Jimmy Jensen\, Gus Centrone\, and Bill Rogers. \nRaffle prizes are available to win thanks to our generous sponsors: Bailey Matthews National Shell Museum\, Billy’s Rentals\, Bit of Bailey’s\, Blue Giraffe\, Bubbly Latitude\, On Island\, Pierce’s Paw Paradise\, Sanibel Deli & Coffee Factory\, and Dave Scheiber. \nYou must be a CH member\, volunteer\, or a Sanibel/ Captiva nonprofit employee/intern to attend this event. \nPlease RSVP by calling (239) 472-2155 \nNot a member yet or need to renew your membership? \n Click Here to Join or Renew Today \n \n  \n \nBe the first to know more about events like this by signing up to receive our email notifications! \n\nsubscribe here for e-news
URL:https://sanibelcommunityhouse.net/event/member-volunteer-appreciation-bbq-social-2/
LOCATION:2173 Periwinkle Way\, 2173 Periwinkle Way\, Sanibel\, FL\, 33957\, United States
CATEGORIES:Community,Social
ATTACH;FMTTYPE=image/png:https://sanibelcommunityhouse.net/wp-content/uploads/2025/04/BBQ-Social-SCA-Website-Calendar.png
END:VEVENT
BEGIN:VEVENT
DTSTART;TZID=America/New_York:20260423T090000
DTEND;TZID=America/New_York:20260423T120000
DTSTAMP:20260421T080119
CREATED:20260406T160914Z
LAST-MODIFIED:20260416T152745Z
UID:10007511-1776934800-1776945600@sanibelcommunityhouse.net
SUMMARY:Lee Health Blood Drive
DESCRIPTION:  \n  \nThe Sanibel Community Association will host a blood drive in collaboration with Lee Health from 9am to 12pm on Thursday\, April 23\, 2026\, at The Sanibel Community House. \nAll donors will receive a limited-edition t-shirt and wellness checkup including blood pressure\, temperature\, iron count\, and cholesterol screening. \nTo register to donate blood\,\nPlease call (239) 472-2155 or email Ivy Ankerson at: ivy@sanibelcommunityhouse.net \n Important Blood Donation Information \n Fun Facts \n \nBe the first to know more about events like this by signing up to receive our email notifications! \n\nsubscribe here for e-news
URL:https://sanibelcommunityhouse.net/event/lee-health-blood-drive-4/
LOCATION:2173 Periwinkle Way\, 2173 Periwinkle Way\, Sanibel\, FL\, 33957\, United States
CATEGORIES:Community
ATTACH;FMTTYPE=image/png:https://sanibelcommunityhouse.net/wp-content/uploads/2024/04/Lee-Health-Blood-Mobile-SCA-Website-Calendar-Feb-2025.png
END:VEVENT
BEGIN:VEVENT
DTSTART;TZID=America/New_York:20260423T120000
DTEND;TZID=America/New_York:20260423T150000
DTSTAMP:20260421T080119
CREATED:20260326T153614Z
LAST-MODIFIED:20260415T161459Z
UID:10007508-1776945600-1776956400@sanibelcommunityhouse.net
SUMMARY:Macrame with Jodi Cort
DESCRIPTION:  \nClick here to register \nAn introductory class where you will learn basic macrame knots to create a personalized plant hanger! \nMacrame is a type of textile that is produced by making knots. There are various kinds of knots that can be used\, and they can be combined in an infinite number of ways to create both functional and aesthetic pieces. \nThis introductory class will cover basic macrame knots needed to complete one plant hanger\, which each participant will be able to bring home. The instructor plans to offer intermediate classes in the future. She hopes to instill an interest in this craft\, and a desire to continue to learn additional knots and patterns\, in order to create wall hangings\, more advanced plant hangers\, and unique pieces. \nWe hope you will join us at the Community House to learn this amazing craft! \n$50 per class for Members | $60 per class for Nonmembers \n▪️Nonmembers\, click here to register.\n▪️Members\, please call us at 239-472-2155 before purchasing your tickets to receive your DISCOUNT CODE!\n▪️Not a member yet? Click here to join or renew your membership today! \nBe the first to know more about events like this by signing up to receive our email notifications! \n\nsubscribe here for e-news\n\n \nAbout Jodi: \nJodi Cort (AKA JoAnne) is a retired teacher of the Deaf. Originally from Massachusetts\, she moved to Sanibel in 1999. Until recently\, she worked part-time as a sign language interpreter in a variety of settings. She also volunteered in the Guardian and Litem program\, participated in fundraising projects for SCCF\, and taught sign language classes. Jodi currently lives in Fort Myers\, just a few miles from the causeway\, which she crosses almost daily\, often to play tennis at the Dunes Golf and Tennis Club. \nJodi has enjoyed a variety of crafts for over 50 years\, including needlepoint\, embroidery\, crewel\, punch-hook rug-making\, and knitting. During the past two years\, she has found a new passion — the art of macrame. She makes wall hangings and plant hangers\, and has been commissioned to make holiday ornaments & wreaths\, and original pieces for gifts and non-profit organizations. \nCombining her love for teaching with her new craft is something Jodi naturally enjoys. \n 
URL:https://sanibelcommunityhouse.net/event/macrame-with-jodi-cort/
LOCATION:2173 Periwinkle Way\, 2173 Periwinkle Way\, Sanibel\, FL\, 33957\, United States
CATEGORIES:Art
ATTACH;FMTTYPE=image/png:https://sanibelcommunityhouse.net/wp-content/uploads/2026/03/Macrame-Class-BEGINNER-SCA-Website-Calendar.png
END:VEVENT
BEGIN:VEVENT
DTSTART;TZID=America/New_York:20260423T130000
DTEND;TZID=America/New_York:20260423T140000
DTSTAMP:20260421T080119
CREATED:20251216T171236Z
LAST-MODIFIED:20260225T184347Z
UID:10007380-1776949200-1776952800@sanibelcommunityhouse.net
SUMMARY:Line Dancing Class
DESCRIPTION:  \nCome Join us for our Line Dancing classes hosted by Valorie Wolf! No partner needed\, beginners welcome! \nClick here to register \nLine Dancing is a social activity that is wonderful for your memory\, balance and overall health. Today\, Country Music is more popular than ever and Line Dancing can now be found in every part of the world! \nWe teach beginner class dances that are easy to remember. Step sheets are provided for you to copy. \nEach class you will learn popular new dances and begin to build a repertoire of dances that are currently taught and danced in popular venues here in Florida and throughout the country. \nWe look forward to seeing you on the dance floor! \nClasses will be taught by dance instructor Valorie Wolf\, who has been teaching line dancing at the Community House for the past five years! \nMembers $10 | Nonmembers $20 \n▪️ Nonmembers\, click here to register.\n▪️ Members\, please call us at 239-472-2155 before purchasing your tickets to receive your DISCOUNT CODE!\n▪️ Not a member yet? Click here to join or renew your membership today! \nBe the first to know more about events like this by signing up to receive our email notifications! \n\nsubscribe here for e-news\n\n \n 
URL:https://sanibelcommunityhouse.net/event/line-dancing-class-19/
LOCATION:2173 Periwinkle Way\, 2173 Periwinkle Way\, Sanibel\, FL\, 33957\, United States
CATEGORIES:Cultural
ATTACH;FMTTYPE=image/png:https://sanibelcommunityhouse.net/wp-content/uploads/2025/12/Line-Dancing-2026-SCA-Website-Calendar-v2.png
END:VEVENT
BEGIN:VEVENT
DTSTART;TZID=UTC:20260424T073000
DTEND;TZID=UTC:20260424T090000
DTSTAMP:20260421T080119
CREATED:20230510T193459Z
LAST-MODIFIED:20260126T171822Z
UID:10007448-1777015800-1777021200@sanibelcommunityhouse.net
SUMMARY:Rotary Meeting
DESCRIPTION:Click here for more information about the Sanibel-Captiva Rotary Club.
URL:https://sanibelcommunityhouse.net/event/rotary-meeting-2/2026-04-24/
LOCATION:2173 Periwinkle Way\, 2173 Periwinkle Way\, Sanibel\, FL\, 33957\, United States
CATEGORIES:Cultural
ATTACH;FMTTYPE=image/png:https://sanibelcommunityhouse.net/wp-content/uploads/2022/06/rotary-international-1.png
END:VEVENT
BEGIN:VEVENT
DTSTART;TZID=America/New_York:20260424T130000
DTEND;TZID=America/New_York:20260424T150000
DTSTAMP:20260421T080119
CREATED:20240909T120748Z
LAST-MODIFIED:20260225T182617Z
UID:10007330-1777035600-1777042800@sanibelcommunityhouse.net
SUMMARY:Sanibel Hearts
DESCRIPTION:  \nNo reservations required\, $5 suggested donation.\nThis fun card game is available to all. Beginners are always welcome! \n \n  \nBe the first to know more about events like this by signing up to receive our email notifications! \n\nsubscribe here for e-news\n\n 
URL:https://sanibelcommunityhouse.net/event/sanibel-hearts-2/2026-04-24/
LOCATION:2173 Periwinkle Way\, 2173 Periwinkle Way\, Sanibel\, FL\, 33957\, United States
CATEGORIES:Social
ATTACH;FMTTYPE=image/png:https://sanibelcommunityhouse.net/wp-content/uploads/2024/07/Hearts-Club-with-roofline-SCA-Website-Calendar.png
END:VEVENT
BEGIN:VEVENT
DTSTART;TZID=America/New_York:20260425T170000
DTEND;TZID=America/New_York:20260425T220000
DTSTAMP:20260421T080119
CREATED:20251014T174211Z
LAST-MODIFIED:20260303T195834Z
UID:10007299-1777136400-1777154400@sanibelcommunityhouse.net
SUMMARY:Private Event
DESCRIPTION:
URL:https://sanibelcommunityhouse.net/event/private-event-46/
LOCATION:2173 Periwinkle Way\, 2173 Periwinkle Way\, Sanibel\, FL\, 33957\, United States
ATTACH;FMTTYPE=image/png:https://sanibelcommunityhouse.net/wp-content/uploads/2023/10/Private-Event-SCA-Website-Calendar-RESERVED.png
END:VEVENT
BEGIN:VEVENT
DTSTART;TZID=America/New_York:20260426T140000
DTEND;TZID=America/New_York:20260426T170000
DTSTAMP:20260421T080119
CREATED:20260324T125409Z
LAST-MODIFIED:20260416T153128Z
UID:10007503-1777212000-1777222800@sanibelcommunityhouse.net
SUMMARY:Sanibel Art Hop
DESCRIPTION:  \nJoin us for Sanibel Art Hop! \nStart your afternoon at the Sanibel Community House\, which serves as the official jumping-off point for the Art Hop. From there\, hop around to all seven participating galleries\, meet local artists\, and enjoy the creative energy that makes Sanibel’s art community so special. \n  \n▪️Date: Sunday\, April 26\n▪️Time: 2:00 – 5:00 PM\n▪️Starting Location: Sanibel Community House\n▪️Cost: Free and open to the public \nSpend the afternoon discovering incredible local art\, meeting fellow art lovers\, and enjoying a lively island tradition. We look forward to seeing everyone hopping around Sanibel and celebrating the creativity of our vibrant community. \n  \n\nLearn more at Sanibel Art Hop page \n\n  \n \n  \nBe the first to know more about events like this by signing up to receive our email notifications! \n\nsubscribe here for e-news
URL:https://sanibelcommunityhouse.net/event/sanibel-art-hop-4/
LOCATION:2173 Periwinkle Way\, 2173 Periwinkle Way\, Sanibel\, FL\, 33957\, United States
CATEGORIES:Art
ATTACH;FMTTYPE=image/png:https://sanibelcommunityhouse.net/wp-content/uploads/2026/01/Sanibel-Art-Hop-SCA-Website-Event-Calendar.png
END:VEVENT
BEGIN:VEVENT
DTSTART;TZID=America/New_York:20260427T100000
DTEND;TZID=America/New_York:20260427T130000
DTSTAMP:20260421T080119
CREATED:20260331T160531Z
LAST-MODIFIED:20260331T160531Z
UID:10007232-1777284000-1777294800@sanibelcommunityhouse.net
SUMMARY:Shellcrafters Class
DESCRIPTION:  \nClick here to register \nObserve the original Shellcrafters at work and learn how to craft shell creations like the pros! \nTake home a little piece of Sanibel Island as you use native shells to craft your unique creation. All ages are welcome\, we would love for you to join us! \nLimited spots! Book your tickets now! \nEvery Monday 10am-1pm \n$5 Members | $10 Nonmembers \n \n▪️ Nonmembers\, click here to register.\n▪️ Members\, please call us at 239-472-2155 before purchasing your tickets to receive your DISCOUNT CODE!\n▪️ Not a member yet? Click here to join or renew your membership today! \nBe the first to know more about events like this by signing up to receive our email notifications! \n\nsubscribe here for e-news
URL:https://sanibelcommunityhouse.net/event/shell-crafters-2-2-2-2-2/2026-04-27/
LOCATION:2173 Periwinkle Way\, 2173 Periwinkle Way\, Sanibel\, FL\, 33957\, United States
CATEGORIES:Art
ATTACH;FMTTYPE=image/png:https://sanibelcommunityhouse.net/wp-content/uploads/2025/11/Shellcrafters-SCA-Website-Calendar-2026_2.png
ORGANIZER;CN="Shellcrafters":MAILTO:office@sanibelcommunityhouse.net
END:VEVENT
BEGIN:VEVENT
DTSTART;TZID=America/New_York:20260427T183000
DTEND;TZID=America/New_York:20260427T200000
DTSTAMP:20260421T080119
CREATED:20260406T175323Z
LAST-MODIFIED:20260409T131820Z
UID:10007512-1777314600-1777320000@sanibelcommunityhouse.net
SUMMARY:COTI Conversation
DESCRIPTION:  \nCommittee of the Islands & SanCap Resilience to co-host COTI Conversation:\nThe State of Resilience on Sanibel \nOn Monday\, April 27\, at 6:30 p.m.\, the Committee of the Islands (COTI) and SanCap Resilience will welcome Ashlee Painter\, Chief Resilience Officer for the City of Sanibel\, for a discussion on “The State of Resilience on Sanibel.” \nAshlee Painter\nAs we approach the fourth anniversary of Hurricane Ian\, there are several questions that remain on the minds of many on Sanibel and Captiva. How well prepared is our community for future storms? What is being done to address the causes and impacts of climate change to make our community safer and align our actions with Sanibel’s long-held focus on sustainability? \nIn this important program\, Ms. Painter will address these questions\, describing what has been accomplished in the city to date and laying out a vision of where we can go from here. \nIn this program\, she will address: \n▪️What is resilience?\n▪️Resilient Roots – where we started\n▪️Major and minor disruptors – hurricanes\, pandemics\, power outages\, etc.\n▪️What has been done since 2020\n▪️Where are we going and how you can be involved? \nThere will be ample time for audience questions and discussion. Please join us for this important event. \nThe general public is welcome to attend. The program is free\, but registration is required. \nClick here to register \n\n\nCOTI members are invited to attend a members-only reception from 5:45-6:15 to meet the presenter and their new Board of Directors. Refreshments will be served. \n\n\n  \n  \n 
URL:https://sanibelcommunityhouse.net/event/coti-conversation-sancap-resilience/
LOCATION:2173 Periwinkle Way\, 2173 Periwinkle Way\, Sanibel\, FL\, 33957\, United States
CATEGORIES:Community,Educational
ATTACH;FMTTYPE=image/png:https://sanibelcommunityhouse.net/wp-content/uploads/2026/04/COTI-SanCap-Resilience-SCA-Website-Calendar.png
END:VEVENT
BEGIN:VEVENT
DTSTART;TZID=America/New_York:20260429T090000
DTEND;TZID=America/New_York:20260429T120000
DTSTAMP:20260421T080119
CREATED:20251007T153439Z
LAST-MODIFIED:20260225T182515Z
UID:10007284-1777453200-1777464000@sanibelcommunityhouse.net
SUMMARY:Painting with Friends
DESCRIPTION:  \nAll painters are invited to join in as we paint with our friends. Bring your own supplies and art in progress. New painters welcome. Donation $10. Register and pay at the door. \nFor more information: Email Jane Hudson \n  \nBe the first to know more about events like this by signing up to receive our email notifications! \n\nsubscribe here for e-news
URL:https://sanibelcommunityhouse.net/event/painting-with-friends-6/2026-04-29/
LOCATION:2173 Periwinkle Way\, 2173 Periwinkle Way\, Sanibel\, FL\, 33957\, United States
CATEGORIES:Art
ATTACH;FMTTYPE=image/png:https://sanibelcommunityhouse.net/wp-content/uploads/2025/10/2025-2026-Painting-with-Friends-Website-Calendar.png
END:VEVENT
END:VCALENDAR