

BEGIN:VCALENDAR
VERSION:2.0
PRODID:-//Sanibel Community Association - The Community House - ECPv6.11.2//NONSGML v1.0//EN
CALSCALE:GREGORIAN
METHOD:PUBLISH
X-WR-CALNAME:Sanibel Community Association - The Community House
X-ORIGINAL-URL:https://sanibelcommunityhouse.net
X-WR-CALDESC:Events for Sanibel Community Association - The Community House
REFRESH-INTERVAL;VALUE=DURATION:PT1H
X-Robots-Tag:noindex
X-PUBLISHED-TTL:PT1H
BEGIN:VTIMEZONE
TZID:UTC
BEGIN:STANDARD
TZOFFSETFROM:+0000
TZOFFSETTO:+0000
TZNAME:UTC
DTSTART:20240101T000000
END:STANDARD
END:VTIMEZONE
BEGIN:VEVENT
DTSTART;TZID=UTC:20241004T073000
DTEND;TZID=UTC:20241004T090000
DTSTAMP:20260423T054043
CREATED:20230510T193459Z
LAST-MODIFIED:20260126T171822Z
UID:10006465-1728027000-1728032400@sanibelcommunityhouse.net
SUMMARY:Rotary Meeting
DESCRIPTION:Click here for more information about the Sanibel-Captiva Rotary Club.
URL:https://sanibelcommunityhouse.net/event/rotary-meeting-2/2024-10-04/
LOCATION:2173 Periwinkle Way\, 2173 Periwinkle Way\, Sanibel\, FL\, 33957\, United States
CATEGORIES:Cultural
ATTACH;FMTTYPE=image/png:https://sanibelcommunityhouse.net/wp-content/uploads/2022/06/rotary-international-1.png
END:VEVENT
END:VCALENDAR