

BEGIN:VCALENDAR
VERSION:2.0
PRODID:-//Sanibel Community Association - The Community House - ECPv6.11.2//NONSGML v1.0//EN
CALSCALE:GREGORIAN
METHOD:PUBLISH
X-WR-CALNAME:Sanibel Community Association - The Community House
X-ORIGINAL-URL:https://sanibelcommunityhouse.net
X-WR-CALDESC:Events for Sanibel Community Association - The Community House
REFRESH-INTERVAL;VALUE=DURATION:PT1H
X-Robots-Tag:noindex
X-PUBLISHED-TTL:PT1H
BEGIN:VTIMEZONE
TZID:America/New_York
BEGIN:DAYLIGHT
TZOFFSETFROM:-0500
TZOFFSETTO:-0400
TZNAME:EDT
DTSTART:20260308T070000
END:DAYLIGHT
BEGIN:STANDARD
TZOFFSETFROM:-0400
TZOFFSETTO:-0500
TZNAME:EST
DTSTART:20261101T060000
END:STANDARD
END:VTIMEZONE
BEGIN:VEVENT
DTSTART;TZID=America/New_York:20260719T120000
DTEND;TZID=America/New_York:20260719T160000
DTSTAMP:20260425T162149
CREATED:20260425T163358Z
LAST-MODIFIED:20260425T163908Z
UID:15066-1784462400-1784476800@sanibelcommunityhouse.net
SUMMARY:Coconut Fish Painting Party with Laura Ball
DESCRIPTION:  \nJoin the Coconut Fish Painting Party with Laura Ball! \nClick here to register \nGet ready for a fun\, hands-on painting experience where you’ll create your very own coconut fish. This in-person event is ideal for anyone seeking to unwind\, get creative\, and learn to create a coconut fish masterpiece. Bring your friends\, your creativity\, and your excitement for a unique paint party with the amazing Laura Ball! Don’t miss out on this splash of fun and inspiration! \n$60 Members | $75 Nonmembers \nBe the first to know more about events like this by signing up to receive our email notifications! \n\nsubscribe here for e-news\n\n \n▪️Nonmembers\, click here to register.\n▪️Members\, please call us at 239-472-2155 before purchasing your tickets to receive your DISCOUNT CODE!\n▪️Not a member yet? Click here to join or renew your membership today!
URL:https://sanibelcommunityhouse.net/event/coconut-fish-painting-party-with-laura-ball-5/
LOCATION:2173 Periwinkle Way\, 2173 Periwinkle Way\, Sanibel\, FL\, 33957\, United States
CATEGORIES:Art
ATTACH;FMTTYPE=image/png:https://sanibelcommunityhouse.net/wp-content/uploads/2025/11/Coconut-Fish-Painting-SCA-Website-Calendar-v2.png
END:VEVENT
END:VCALENDAR